Workbook

Sheet entrada de dados
E5: =IF(C14="SIM",E51,"")
B8: Data da Simulação | C8: =TODAY() -> 45726
B10: INCLUSÃO DE DADOS | E10: Qt. Parcelas | F10: Vencimentos | G10: Valor da Parcela (saque aniversário) | H10: Valor Líquido Cliente | J10: TAXAS E CET
B11: Data Nascimento | C11: 36959 | E11: =IF('[1]simulador pelo Saldo - saque 1'!B8="","",'[1]simulador pelo Saldo - saque 1'!B8) -> 1 | F11: =IF(simulador!A8="","",simulador!A8) -> 46082 | G11: =IF(simulador!G8="","",simulador!G8) -> 450 | H11: =IF(simulador!N8="","",simulador!N8)-simulador!H23 -> 252.54013 | J11: ='[1]simulador pelo Saldo - saque 1'!A23 -> TAXA a.m | K11: =simulador!B23 -> 0.0179
B12: Saldo FGTS | C12: 1000 | E12: =IF('[1]simulador pelo Saldo - saque 1'!B9="","",'[1]simulador pelo Saldo - saque 1'!B9) -> 2 | F12: =IF(simulador!A9="","",simulador!A9) -> 46447 | G12: =IF(simulador!G9="","",simulador!G9) -> 270 | H12: =IF(simulador!N9="","",simulador!N9) -> 170.32668 | J12: ='[1]simulador pelo Saldo - saque 1'!A24 -> TAXA a.a | K12: =simulador!B24 -> 0.2373
B13: Qt. parcelas | C13: 10 | E13: =IF('[1]simulador pelo Saldo - saque 1'!B10="","",'[1]simulador pelo Saldo - saque 1'!B10) -> 3 | F13: =IF(simulador!A10="","",simulador!A10) -> 46813 | G13: =IF(simulador!G10="","",simulador!G10) -> 140 | H13: =IF(simulador!N10="","",simulador!N10) -> 71.128648 | J13: ='[1]simulador pelo Saldo - saque 1'!A25 -> IOF ADICIONAL | K13: =simulador!B25 -> 0.0038
B14: 1º saque ou Ressaque? | C14: 1º saque | E14: =IF('[1]simulador pelo Saldo - saque 1'!B11="","",'[1]simulador pelo Saldo - saque 1'!B11) -> 4 | F14: =IF(simulador!A11="","",simulador!A11) -> 47178 | G14: =IF(simulador!G11="","",simulador!G11) -> 70 | H14: =IF(simulador!N11="","",simulador!N11) -> 28.659526 | J14: ='[1]simulador pelo Saldo - saque 1'!A26 -> IOF DIÁRIO | K14: =simulador!B26 -> 8.2e-05
E15: =IF('[1]simulador pelo Saldo - saque 1'!B12="","",'[1]simulador pelo Saldo - saque 1'!B12) -> 5 | F15: =IF(simulador!A12="","",simulador!A12) -> 47543 | G15: =IF(simulador!G12="","",simulador!G12) -> 35 | H15: =IF(simulador!N12="","",simulador!N12) -> 11.547646 | J15: ='[1]simulador pelo Saldo - saque 1'!A27 -> IOF TOTAL | K15: =simulador!B27 -> 22.129011
E16: =IF('[1]simulador pelo Saldo - saque 1'!B13="","",'[1]simulador pelo Saldo - saque 1'!B13) -> 6 | F16: =IF(simulador!A13="","",simulador!A13) -> 47908 | G16: =IF(simulador!G13="","",simulador!G13) -> 17.5 | H16: =IF(simulador!N13="","",simulador!N13) -> 4.6528376 | J16: ='[1]simulador pelo Saldo - saque 1'!A28 -> JUROS | K16: =simulador!B28 -> 334.86646
E17: =IF('[1]simulador pelo Saldo - saque 1'!B14="","",'[1]simulador pelo Saldo - saque 1'!B14) -> 7 | F17: =IF(simulador!A14="","",simulador!A14) -> 48274 | G17: =IF(simulador!G14="","",simulador!G14) -> 8.75 | H17: =IF(simulador!N14="","",simulador!N14) -> 1.8736372 | J17: ='[1]simulador pelo Saldo - saque 1'!A29 -> CET a.m | K17: =simulador!B29 -> 0.028140924
E18: =IF('[1]simulador pelo Saldo - saque 1'!B15="","",'[1]simulador pelo Saldo - saque 1'!B15) -> 8 | F18: =IF(simulador!A15="","",simulador!A15) -> 48639 | G18: =IF(simulador!G15="","",simulador!G15) -> 4.375 | H18: =IF(simulador!N15="","",simulador!N15) -> 0.75493567 | J18: ='[1]simulador pelo Saldo - saque 1'!A30 -> CET a.a | K18: =simulador!B30 -> 0.4017
E19: =IF('[1]simulador pelo Saldo - saque 1'!B16="","",'[1]simulador pelo Saldo - saque 1'!B16) -> 9 | F19: =IF(simulador!A16="","",simulador!A16) -> 49004 | G19: =IF(simulador!G16="","",simulador!G16) -> 2.1875 | H19: =IF(simulador!N16="","",simulador!N16) -> 0.30418262 | J19: TAC | K19: =simulador!B31 -> 100 | L19: * abatido do liquido da 1º parcela
E20: =IF('[1]simulador pelo Saldo - saque 1'!B17="","",'[1]simulador pelo Saldo - saque 1'!B17) -> 10 | F20: =IF(simulador!A17="","",simulador!A17) -> 49369 | G20: =IF(simulador!G17="","",simulador!G17) -> 1.09375 | H20: =IF(simulador!N17="","",simulador!N17) -> 0.12256285
E21: =IF('[1]simulador pelo Saldo - saque 1'!B18="","",'[1]simulador pelo Saldo - saque 1'!B18) -> 10 | F21: =IF('[1]simulador pelo Saldo - saque 1'!A18="","",'[1]simulador pelo Saldo - saque 1'!A18) | G21: =IF(simulador!G18="","",simulador!G18) -> 998.90625 | H21: =SUM(H11:H20) -> 541.91078 | J21: ='[1]simulador pelo Saldo - saque 1'!G23 -> 55624.612
E23: =E37 -> * Trata-se de uma simulação. O valor exato da contratação só será possível com a digitação da proposta no Portal de Vendas.
K26: versão: 2025 03 10
E37: =IF(C12>0,"* Trata-se de uma simulação. O valor exato da contratação só será possível com a digitação da proposta no Portal de Vendas.","") -> * Trata-se de uma simulação. O valor exato da contratação só será possível com a digitação da proposta no Portal de Vendas.
B51: =IF(C11="","Preencher os 4 dados acima",IF(C12="","Preencher os 4 dados acima",IF(C13="","Preencher os 4 dados acima",IF(C14="","Preencher os 4 dados acima",IF(H21<100,"Valor líquido ou prazo fora da política",IF(C13>'[1]simulador pelo Saldo - saque 1'!B20,"Valor líquido ou prazo fora da política","")))))) | E51: SIMULAÇÃO COM TAXA EXCLUSIVA PARA COLABORADOR DAYCOVAL
C59: 1º saque
C60: Ressaque

Sheet simulador
A1: Data contratação | B1: =TODAY() -> 45726
A2: data nascimento | B2: ='entrada de dados'!C11 -> 36959
A3: Saldo FGTS | B3: ='entrada de dados'!C12 -> 1000
A4: Qt. parcelas | B4: ='entrada de dados'!C13 -> 10
A7: Aniversários (vcto) | C7: Saldo de FGTS | D7: Alíquota de Saque aniversário | E7: R$ | F7: Parcela adicional | G7: total saque aniversário (Garantia ou Parcela) | H7: saldo final FGTS | I7: prazo | J7: VP | K7: iof adicional | L7: iof diário | M7: IOF Total | N7: liquido ao cliente
A8: =IF($B$3<$B$21,"",IF($B$4>$B$20,"",IF(B2=0,"",IF(B3=0,"",IF(B4=0,"",IF(B4>12,"",IF(MONTH(B1)>=MONTH(B2),DATE(YEAR(B1)+1,MONTH(B2),1),DATE(YEAR(B1),MONTH(B2),1)))))))) -> 46082 | B8: =IF($B$3<$B$21,"",IF($B$4>$B$20,"",IF(B4=0,"",IF(B4>12,"",1)))) -> 1 | C8: =IF($B$4>$B$20,"",IF(B3<$B$21,"",IF(B2=0,"",IF(B4=0,"",IF(B4>12,"",B3))))) -> 1000 | D8: =IF(C8="","",IF(C8>20000,5%,IF(C8>15000,10%,IF(C8>10000,15%,IF(C8>5000,20%,IF(C8>1000,30%,IF(C8>500,40%,50%))))))) -> 0.4 | E8: =IF(D8="","",C8*D8) -> 400 | F8: =IF(C8="","",IF(C8>20000,2900,IF(C8>15000,1900,IF(C8>10000,1150,IF(C8>5000,650,IF(C8>1000,150,IF(C8>500,50,0))))))) -> 50 | G8: =IF($B$4>$B$20,"",IF(C8="","",F8+E8)) -> 450 | H8: =IF(C8="","",C8-G8) -> 550 | I8: =IF(A8="","",IF(B3=0,"",A8-$B$1)) -> 356 | J8: =IF(A8="","",IF(B3=0,"",IF(B4=0,"",G8/($C$23^I8)))) -> 364.56795 | K8: =IF(A8="","",IF(B3=0,"",J8*$B$25)) -> 1.3853582 | L8: =IF(A8="","",IF(B3=0,"",J8*(IF(I8<365,I8*$B$26,365*$B$26)))) -> 10.642468 | M8: =IF(A8="","",IF(B3=0,"",K8+L8)) -> 12.027826 | N8: =IF(A8="","",IF(B3=0,"",J8-K8-L8)) -> 352.54013
A9: =IF(B9="","",DATE(YEAR(A8)+1,MONTH(A8),DAY(A8))) -> 46447 | B9: =IF(B8="","",IF(B8+1>$B$4,"",B8+1)) -> 2 | C9: =IF(B9="","",IF(H8<0.01,"",H8)) -> 550 | D9: =IF(C9="","",IF(C9>20000,5%,IF(C9>15000,10%,IF(C9>10000,15%,IF(C9>5000,20%,IF(C9>1000,30%,IF(C9>500,40%,50%))))))) -> 0.4 | E9: =IF(D9="","",C9*D9) -> 220 | F9: =IF(C9="","",IF(C9>20000,2900,IF(C9>15000,1900,IF(C9>10000,1150,IF(C9>5000,650,IF(C9>1000,150,IF(C9>500,50,0))))))) -> 50 | G9: =IF(C9="","",F9+E9) -> 270 | H9: =IF(C9="","",C9-G9) -> 280 | I9: =IF(B9="","",A9-$B$1) -> 721 | J9: =IF(B9="","",G9/($C$23^I9)) -> 176.27235 | K9: =IF(B9="","",J9*$B$25) -> 0.66983491 | L9: =IF(B9="","",J9*(IF(I9<365,I9*$B$26,365*$B$26))) -> 5.2758313 | M9: =IF(B9="","",K9+L9) -> 5.9456662 | N9: =IF(B9="","",J9-K9-L9) -> 170.32668 | O9: =N9+N8 -> 522.86681
A10: =IF(B10="","",DATE(YEAR(A9)+1,MONTH(A9),DAY(A9))) -> 46813 | B10: =IF(B9="","",IF(B9+1>$B$4,"",B9+1)) -> 3 | C10: =IF(B10="","",IF(H9<0.01,"",H9)) -> 280 | D10: =IF(C10="","",IF(C10>20000,5%,IF(C10>15000,10%,IF(C10>10000,15%,IF(C10>5000,20%,IF(C10>1000,30%,IF(C10>500,40%,50%))))))) -> 0.5 | E10: =IF(D10="","",C10*D10) -> 140 | F10: =IF(C10="","",IF(C10>20000,2900,IF(C10>15000,1900,IF(C10>10000,1150,IF(C10>5000,650,IF(C10>1000,150,IF(C10>500,50,0))))))) -> 0 | G10: =IF(C10="","",F10+E10) -> 140 | H10: =IF(C10="","",C10-G10) -> 140 | I10: =IF(B10="","",A10-$B$1) -> 1087 | J10: =IF(B10="","",G10/($C$23^I10)) -> 73.611566 | K10: =IF(B10="","",J10*$B$25) -> 0.27972395 | L10: =IF(B10="","",J10*(IF(I10<365,I10*$B$26,365*$B$26))) -> 2.2031942 | M10: =IF(B10="","",K10+L10) -> 2.4829181 | N10: =IF(B10="","",J10-K10-L10) -> 71.128648 | O10: =N10+O9 -> 593.99545
A11: =IF(B11="","",DATE(YEAR(A10)+1,MONTH(A10),DAY(A10))) -> 47178 | B11: =IF(B10="","",IF(B10+1>$B$4,"",B10+1)) -> 4 | C11: =IF(B11="","",IF(H10<0.01,"",H10)) -> 140 | D11: =IF(C11="","",IF(C11>20000,5%,IF(C11>15000,10%,IF(C11>10000,15%,IF(C11>5000,20%,IF(C11>1000,30%,IF(C11>500,40%,50%))))))) -> 0.5 | E11: =IF(D11="","",C11*D11) -> 70 | F11: =IF(C11="","",IF(C11>20000,2900,IF(C11>15000,1900,IF(C11>10000,1150,IF(C11>5000,650,IF(C11>1000,150,IF(C11>500,50,0))))))) -> 0 | G11: =IF(C11="","",F11+E11) -> 70 | H11: =IF(C11="","",C11-G11) -> 70 | I11: =IF(B11="","",A11-$B$1) -> 1452 | J11: =IF(B11="","",G11/($C$23^I11)) -> 29.659956 | K11: =IF(B11="","",J11*$B$25) -> 0.11270783 | L11: =IF(B11="","",J11*(IF(I11<365,I11*$B$26,365*$B$26))) -> 0.88772249 | M11: =IF(B11="","",K11+L11) -> 1.0004303 | N11: =IF(B11="","",J11-K11-L11) -> 28.659526 | O11: =N11+O10 -> 622.65498
A12: =IF(B12="","",DATE(YEAR(A11)+1,MONTH(A11),DAY(A11))) -> 47543 | B12: =IF(B11="","",IF(B11+1>$B$4,"",B11+1)) -> 5 | C12: =IF(B12="","",IF(H11<0.01,"",H11)) -> 70 | D12: =IF(C12="","",IF(C12>20000,5%,IF(C12>15000,10%,IF(C12>10000,15%,IF(C12>5000,20%,IF(C12>1000,30%,IF(C12>500,40%,50%))))))) -> 0.5 | E12: =IF(D12="","",C12*D12) -> 35 | F12: =IF(C12="","",IF(C12>20000,2900,IF(C12>15000,1900,IF(C12>10000,1150,IF(C12>5000,650,IF(C12>1000,150,IF(C12>500,50,0))))))) -> 0 | G12: =IF(C12="","",F12+E12) -> 35 | H12: =IF(C12="","",C12-G12) -> 35 | I12: =IF(B12="","",A12-$B$1) -> 1817 | J12: =IF(B12="","",G12/($C$23^I12)) -> 11.950744 | K12: =IF(B12="","",J12*$B$25) -> 0.045412828 | L12: =IF(B12="","",J12*(IF(I12<365,I12*$B$26,365*$B$26))) -> 0.35768577 | M12: =IF(B12="","",K12+L12) -> 0.4030986 | N12: =IF(B12="","",J12-K12-L12) -> 11.547646 | O12: =N12+O11 -> 634.20263
A13: =IF(B13="","",DATE(YEAR(A12)+1,MONTH(A12),DAY(A12))) -> 47908 | B13: =IF(B12="","",IF(B12+1>$B$4,"",B12+1)) -> 6 | C13: =IF(B13="","",IF(H12<0.01,"",H12)) -> 35 | D13: =IF(C13="","",IF(C13>20000,5%,IF(C13>15000,10%,IF(C13>10000,15%,IF(C13>5000,20%,IF(C13>1000,30%,IF(C13>500,40%,50%))))))) -> 0.5 | E13: =IF(D13="","",C13*D13) -> 17.5 | F13: =IF(C13="","",IF(C13>20000,2900,IF(C13>15000,1900,IF(C13>10000,1150,IF(C13>5000,650,IF(C13>1000,150,IF(C13>500,50,0))))))) -> 0 | G13: =IF(C13="","",F13+E13) -> 17.5 | H13: =IF(C13="","",C13-G13) -> 17.5 | I13: =IF(B13="","",A13-$B$1) -> 2182 | J13: =IF(B13="","",G13/($C$23^I13)) -> 4.8152562 | K13: =IF(B13="","",J13*$B$25) -> 0.018297973 | L13: =IF(B13="","",J13*(IF(I13<365,I13*$B$26,365*$B$26))) -> 0.14412062 | M13: =IF(B13="","",K13+L13) -> 0.16241859 | N13: =IF(B13="","",J13-K13-L13) -> 4.6528376 | O13: =N13+O12 -> 638.85546
A14: =IF(B14="","",DATE(YEAR(A13)+1,MONTH(A13),DAY(A13))) -> 48274 | B14: =IF(B13="","",IF(B13+1>$B$4,"",B13+1)) -> 7 | C14: =IF(B14="","",IF(H13<0.01,"",H13)) -> 17.5 | D14: =IF(C14="","",IF(C14>20000,5%,IF(C14>15000,10%,IF(C14>10000,15%,IF(C14>5000,20%,IF(C14>1000,30%,IF(C14>500,40%,50%))))))) -> 0.5 | E14: =IF(D14="","",C14*D14) -> 8.75 | F14: =IF(C14="","",IF(C14>20000,2900,IF(C14>15000,1900,IF(C14>10000,1150,IF(C14>5000,650,IF(C14>1000,150,IF(C14>500,50,0))))))) -> 0 | G14: =IF(C14="","",F14+E14) -> 8.75 | H14: =IF(C14="","",C14-G14) -> 8.75 | I14: =IF(B14="","",A14-$B$1) -> 2548 | J14: =IF(B14="","",G14/($C$23^I14)) -> 1.9390411 | K14: =IF(B14="","",J14*$B$25) -> 0.007368356 | L14: =IF(B14="","",J14*(IF(I14<365,I14*$B$26,365*$B$26))) -> 0.058035499 | M14: =IF(B14="","",K14+L14) -> 0.065403855 | N14: =IF(B14="","",J14-K14-L14) -> 1.8736372 | O14: =N14+O13 -> 640.7291 | Q14: cliente | R14: comissão
A15: =IF(B15="","",DATE(YEAR(A14)+1,MONTH(A14),DAY(A14))) -> 48639 | B15: =IF(B14="","",IF(B14+1>$B$4,"",B14+1)) -> 8 | C15: =IF(B15="","",IF(H14<0.01,"",H14)) -> 8.75 | D15: =IF(C15="","",IF(C15>20000,5%,IF(C15>15000,10%,IF(C15>10000,15%,IF(C15>5000,20%,IF(C15>1000,30%,IF(C15>500,40%,50%))))))) -> 0.5 | E15: =IF(D15="","",C15*D15) -> 4.375 | F15: =IF(C15="","",IF(C15>20000,2900,IF(C15>15000,1900,IF(C15>10000,1150,IF(C15>5000,650,IF(C15>1000,150,IF(C15>500,50,0))))))) -> 0 | G15: =IF(C15="","",F15+E15) -> 4.375 | H15: =IF(C15="","",C15-G15) -> 4.375 | I15: =IF(B15="","",A15-$B$1) -> 2913 | J15: =IF(B15="","",G15/($C$23^I15)) -> 0.78128854 | K15: =IF(B15="","",J15*$B$25) -> 0.0029688964 | L15: =IF(B15="","",J15*(IF(I15<365,I15*$B$26,365*$B$26))) -> 0.023383966 | M15: =IF(B15="","",K15+L15) -> 0.026352862 | N15: =IF(B15="","",J15-K15-L15) -> 0.75493567 | O15: =N15+O14 -> 641.48404 | Q15: =SUM(N8:N17) -> 641.91078 | R15: =Q15*6% -> 38.514647
A16: =IF(B16="","",DATE(YEAR(A15)+1,MONTH(A15),DAY(A15))) -> 49004 | B16: =IF(B15="","",IF(B15+1>$B$4,"",B15+1)) -> 9 | C16: =IF(B16="","",IF(H15<0.01,"",H15)) -> 4.375 | D16: =IF(C16="","",IF(C16>20000,5%,IF(C16>15000,10%,IF(C16>10000,15%,IF(C16>5000,20%,IF(C16>1000,30%,IF(C16>500,40%,50%))))))) -> 0.5 | E16: =IF(D16="","",C16*D16) -> 2.1875 | F16: =IF(C16="","",IF(C16>20000,2900,IF(C16>15000,1900,IF(C16>10000,1150,IF(C16>5000,650,IF(C16>1000,150,IF(C16>500,50,0))))))) -> 0 | G16: =IF(C16="","",F16+E16) -> 2.1875 | H16: =IF(C16="","",C16-G16) -> 2.1875 | I16: =IF(B16="","",A16-$B$1) -> 3278 | J16: =IF(B16="","",G16/($C$23^I16)) -> 0.31480085 | K16: =IF(B16="","",J16*$B$25) -> 0.0011962432 | L16: =IF(B16="","",J16*(IF(I16<365,I16*$B$26,365*$B$26))) -> 0.0094219895 | M16: =IF(B16="","",K16+L16) -> 0.010618233 | N16: =IF(B16="","",J16-K16-L16) -> 0.30418262 | O16: =N16+O15 -> 641.78822
A17: =IF(B17="","",DATE(YEAR(A16)+1,MONTH(A16),DAY(A16))) -> 49369 | B17: =IF(B16="","",IF(B16+1>$B$4,"",B16+1)) -> 10 | C17: =IF(B17="","",IF(H16<0.01,"",H16)) -> 2.1875 | D17: =IF(C17="","",IF(C17>20000,5%,IF(C17>15000,10%,IF(C17>10000,15%,IF(C17>5000,20%,IF(C17>1000,30%,IF(C17>500,40%,50%))))))) -> 0.5 | E17: =IF(D17="","",C17*D17) -> 1.09375 | F17: =IF(C17="","",IF(C17>20000,2900,IF(C17>15000,1900,IF(C17>10000,1150,IF(C17>5000,650,IF(C17>1000,150,IF(C17>500,50,0))))))) -> 0 | G17: =IF(C17="","",F17+E17) -> 1.09375 | H17: =IF(C17="","",C17-G17) -> 1.09375 | I17: =IF(B17="","",A17-$B$1) -> 3643 | J17: =IF(B17="","",G17/($C$23^I17)) -> 0.1268412 | K17: =IF(B17="","",J17*$B$25) -> 0.00048199656 | L17: =IF(B17="","",J17*(IF(I17<365,I17*$B$26,365*$B$26))) -> 0.0037963571 | M17: =IF(B17="","",K17+L17) -> 0.0042783537 | N17: =IF(B17="","",J17-K17-L17) -> 0.12256285 | O17: =N17+O16 -> 641.91078
B18: =MAX(B8:B17) -> 10 | E18: =SUM(E8:E17) -> 898.90625 | F18: =SUM(F8:F17) -> 100 | G18: =SUM(G8:G17) -> 998.90625 | J18: =SUM(J8:J17) -> 664.03979 | K18: =SUM(K8:K17) -> 2.5233512 | L18: =SUM(L8:L17) -> 19.60566 | M18: =SUM(M8:M17) -> 22.129011 | N18: =J18-K18-L18 -> 641.91078
A20: Prazo máximo | B20: 10
A21: Saldo mínimo | B21: 100
A23: TAXA a.m | B23: =IF('[1]FGTS - entrada de dados'!C14="SIM",1.5%,1.79%) -> 0.0179 | C23: =(1+B23)^(1/30) -> 1.0005916 | G23: =$N$18 -> 641.91078 | H23: =IF('entrada de dados'!C14="Ressaque",0,IF($G23<100,0,IF($G23<300,60,IF($G23<600,80,IF($G23<1000,100,IF($G23<2000,120,IF($G23<3000,200,IF($G23<4000,250,IF($G23<10000,450,IF($G23<20000,600,IF($G23<30000,700,IF($G23<50000,1200,2000)))))))))))) -> 100
A24: TAXA a.a | B24: =IFERROR(H36,"") -> 0.2373
A25: IOF ADICIONAL | B25: 0.0038
A26: IOF DIÁRIO | B26: 8.2e-05
A27: IOF TOTAL | B27: =K18+L18 -> 22.129011
A28: JUROS | B28: =G18-K18-L18-N18 -> 334.86646
A29: CET a.m | B29: =C36 -> 0.028140924
A30: CET a.a | B30: =IFERROR(D36,"") -> 0.4017
A31: TAC | B31: =H23 -> 100
A32: COLABORADOR DAYCOVAL
B33: SIM
B34: NÃO
B35: CET | C35: a.m | D35: a.a | F35: TAXA | G35: a.m | H35: a.a | O35: a) Valor Principal do Crédito: | Q35: =J18 -> 664.03979
C36: =IF(B4=10,(XIRR(D40:D50,C40:C50,0)+1)^(30/365)-1,IF(B4=9,(XIRR(D40:D49,C40:C49,0)+1)^(30/365)-1,IF(B4=8,(XIRR(D40:D48,C40:C48,0)+1)^(30/365)-1,IF(B4=7,(XIRR(D40:D47,C40:C47,0)+1)^(30/365)-1,IF(B4=6,(XIRR(D40:D46,C40:C46,0)+1)^(30/365)-1,IF(B4=5,(XIRR(D40:D45,C40:C45,0)+1)^(30/365)-1,IF(B4=4,(XIRR(D40:D44,C40:C44,0)+1)^(30/365)-1,IF(B4=3,(XIRR(D40:D43,C40:C43,0)+1)^(30/365)-1,IF(B4=2,(XIRR(D40:D42,C40:C42,0)+1)^(30/365)-1,IF(B4=1,(XIRR(D40:D41,C40:C41,0)+1)^(30/365)-1,"")))))))))) -> 0.028140924 | D36: =ROUND((((C36+1)^(365/30)-1)),4) -> 0.4017 | G36: =IF(B4=10,(XIRR(H40:H50,G40:G50,0)+1)^(30/365)-1,IF(B4=9,(XIRR(H40:H49,G40:G49,0)+1)^(30/365)-1,IF(B4=8,(XIRR(H40:H48,G40:G48,0)+1)^(30/365)-1,IF(B4=7,(XIRR(H40:H47,G40:G47,0)+1)^(30/365)-1,IF(B4=6,(XIRR(H40:H46,G40:G46,0)+1)^(30/365)-1,IF(B4=5,(XIRR(H40:H45,G40:G45,0)+1)^(30/365)-1,IF(B4=4,(XIRR(H40:H44,G40:G44,0)+1)^(30/365)-1,IF(B4=3,(XIRR(H40:H43,G40:G43,0)+1)^(30/365)-1,IF(B4=2,(XIRR(H40:H42,G40:G42,0)+1)^(30/365)-1,IF(B4=1,(XIRR(H40:H41,G40:G41,0)+1)^(30/365)-1,"")))))))))) -> 0.0179 | H36: =ROUND((((G36+1)^(12)-1)),4) -> 0.2373 | O36: b) IOF: | Q36: =M18 -> 22.129011
O37: c) Tarifa de Cadastro: | Q37: 0
O38: d) Juros: | Q38: =B28 -> 334.86646
C39: CET | G39: TAXA | O39: e) Nº de Parcelas: | Q39: =B18 -> 10
C40: =B1 -> 45726 | D40: =-N18+H23 -> -541.91078 | G40: =B1 -> 45726 | H40: =-J18 -> -664.03979 | O40: f) Vencimento Inicial: | Q40: =MIN(A8:A17) -> 46082
C41: =A8 -> 46082 | D41: =G8 -> 450 | G41: =A8 -> 46082 | H41: =G8 -> 450 | O41: g) Vencimento Final: | Q41: =MAX(A8:A17) -> 49369
C42: =A9 -> 46447 | D42: =G9 -> 270 | G42: =A9 -> 46447 | H42: =G9 -> 270 | O42: i)Taxa de juros: | Q42: =B23 -> 0.0179
C43: =A10 -> 46813 | D43: =G10 -> 140 | G43: =A10 -> 46813 | H43: =G10 -> 140 | Q43: =B24 -> 0.2373
C44: =A11 -> 47178 | D44: =G11 -> 70 | G44: =A11 -> 47178 | H44: =G11 -> 70 | O44: j) Custo Efetivo Total: | Q44: =B29 -> 0.028140924
...
